BEGIN:VCALENDAR
VERSION:2.0
PRODID:-//Squarespace Inc/Squarespace 6//v6//EN
BEGIN:VEVENT
UID:57f38335c534a5db61a8548d@squarespace.com
DTSTAMP:20161004T103018Z
DTSTART:20161029T133000Z
DTEND:20161030T203000Z
SUMMARY:Ashtanga Yoga with Stephanie Nelson
END:VEVENT
END:VCALENDAR
