BEGIN:VCALENDAR
VERSION:2.0
PRODID:-//Squarespace Inc/Squarespace 6//v6//EN
BEGIN:VEVENT
UID:58b8bc82f7e0ab3459b01584@squarespace.com
DTSTAMP:20170303T004742Z
DTSTART:20170325T130000Z
DTEND:20170326T210000Z
SUMMARY:Essential Reformer Course with Emma Hardisty
END:VEVENT
END:VCALENDAR
