BEGIN:VCALENDAR
VERSION:2.0
PRODID:-//Squarespace Inc/Squarespace 6//v6//EN
BEGIN:VEVENT
UID:589239e917bffce277de0ecd@squarespace.com
DTSTAMP:20170201T195045Z
DTSTART:20170219T200000Z
DTEND:20170312T200000Z
SUMMARY:THE BODY SYSTEMS SESSIONS | H + H LIFESTYLE & BEING-WELL
END:VEVENT
END:VCALENDAR
