BEGIN:VCALENDAR
VERSION:2.0
PRODID:-//Squarespace Inc/Squarespace 6//v6//EN
BEGIN:VEVENT
UID:57a020c4414fb546e8e12493@squarespace.com
DTSTAMP:20160826T123342Z
DTSTART:20160804T130000Z
DTEND:20160904T210000Z
SUMMARY:The Essential Swiss Ball Workshop
END:VEVENT
END:VCALENDAR
