BEGIN:VCALENDAR
VERSION:2.0
PRODID:-//Squarespace Inc/Squarespace 6//v6//EN
BEGIN:VEVENT
UID:57711727725e2552c372bbc3@squarespace.com
DTSTAMP:20160627T121625Z
DTSTART:20160731T130000Z
DTEND:20160731T210000Z
SUMMARY:TRX Professional Education
END:VEVENT
END:VCALENDAR
